BEGIN:VCALENDAR
VERSION:2.0
PRODID:-//Boys &amp; Girls Clubs of East Alabama - ECPv6.8.0//NONSGML v1.0//EN
CALSCALE:GREGORIAN
METHOD:PUBLISH
X-WR-CALNAME:Boys &amp; Girls Clubs of East Alabama
X-ORIGINAL-URL:https://bgceastal.org
X-WR-CALDESC:Events for Boys &amp; Girls Clubs of East Alabama
REFRESH-INTERVAL;VALUE=DURATION:PT1H
X-Robots-Tag:noindex
X-PUBLISHED-TTL:PT1H
BEGIN:VTIMEZONE
TZID:UTC
BEGIN:STANDARD
TZOFFSETFROM:+0000
TZOFFSETTO:+0000
TZNAME:UTC
DTSTART:20230101T000000
END:STANDARD
END:VTIMEZONE
BEGIN:VEVENT
DTSTART;TZID=UTC:20240124T150000
DTEND;TZID=UTC:20240124T180000
DTSTAMP:20260422T040421
CREATED:20240112T210022Z
LAST-MODIFIED:20240112T210228Z
UID:695-1706108400-1706119200@bgceastal.org
SUMMARY:PD Clubhouse: Change a Pet's Life Day
DESCRIPTION:Potter-Daniel Clubhouse is determined to Change a Pet’s Life TODAY! This special event is designed to help raise awareness of animal welfare and promote the adoption of pets in need of good homes. We will make a difference in the lives of pets and their families.
URL:https://bgceastal.org/event/pd-clubhouse-change-a-pets-life-day/
END:VEVENT
BEGIN:VEVENT
DTSTART;TZID=UTC:20240122T150000
DTEND;TZID=UTC:20240122T180000
DTSTAMP:20260422T040421
CREATED:20240112T205941Z
LAST-MODIFIED:20240112T210014Z
UID:694-1705935600-1705946400@bgceastal.org
SUMMARY:PD Clubhouse: Celebration of Life Day
DESCRIPTION:
URL:https://bgceastal.org/event/pd-clubhouse-celebration-of-life-day/
END:VEVENT
BEGIN:VEVENT
DTSTART;TZID=UTC:20240119T163000
DTEND;TZID=UTC:20240119T173000
DTSTAMP:20260422T040421
CREATED:20240112T201136Z
LAST-MODIFIED:20240112T201614Z
UID:677-1705681800-1705685400@bgceastal.org
SUMMARY:AU Clubhouse: Family Game Day
DESCRIPTION:
URL:https://bgceastal.org/event/au-clubhouse-family-game-day/
END:VEVENT
BEGIN:VEVENT
DTSTART;TZID=UTC:20240117T150000
DTEND;TZID=UTC:20240117T180000
DTSTAMP:20260422T040421
CREATED:20240112T205836Z
LAST-MODIFIED:20240112T205934Z
UID:693-1705503600-1705514400@bgceastal.org
SUMMARY:PD Clubhouse: Kid Inventors Day
DESCRIPTION:
URL:https://bgceastal.org/event/pd-clubhouse-kid-inventors-day/
END:VEVENT
BEGIN:VEVENT
DTSTART;TZID=UTC:20240117T150000
DTEND;TZID=UTC:20240117T180000
DTSTAMP:20260422T040421
CREATED:20240112T200130Z
LAST-MODIFIED:20240112T201129Z
UID:676-1705503600-1705514400@bgceastal.org
SUMMARY:AU Clubhouse: Kid Inventors Day
DESCRIPTION:
URL:https://bgceastal.org/event/au-clubhouse-kid-inventors-day/
END:VEVENT
BEGIN:VEVENT
DTSTART;TZID=UTC:20240116T080000
DTEND;TZID=UTC:20240116T170000
DTSTAMP:20260422T040421
CREATED:20240112T205647Z
LAST-MODIFIED:20240112T205755Z
UID:692-1705392000-1705424400@bgceastal.org
SUMMARY:PD Clubhouse: CLOSED
DESCRIPTION:
URL:https://bgceastal.org/event/pd-clubhouse-closed-2/
END:VEVENT
BEGIN:VEVENT
DTSTART;TZID=UTC:20240115T080000
DTEND;TZID=UTC:20240115T170000
DTSTAMP:20260422T040421
CREATED:20240112T205605Z
LAST-MODIFIED:20240112T205642Z
UID:691-1705305600-1705338000@bgceastal.org
SUMMARY:PD Clubhouse: CLOSED
DESCRIPTION:
URL:https://bgceastal.org/event/pd-clubhouse-closed/
END:VEVENT
BEGIN:VEVENT
DTSTART;VALUE=DATE:20240115
DTEND;VALUE=DATE:20240116
DTSTAMP:20260422T040421
CREATED:20240103T202250Z
LAST-MODIFIED:20240103T202327Z
UID:666-1705276800-1705363199@bgceastal.org
SUMMARY:MLK Observance
DESCRIPTION:All clubhouses and the corporate office will be closed Monday\, January 15\, 2024 in observance of the Martin Luther King\, Jr. holiday.
URL:https://bgceastal.org/event/mlk-observance/
END:VEVENT
BEGIN:VEVENT
DTSTART;TZID=UTC:20230406T180000
DTEND;TZID=UTC:20230406T220000
DTSTAMP:20260422T040421
CREATED:20230203T060505Z
LAST-MODIFIED:20230203T060517Z
UID:503-1680804000-1680818400@bgceastal.org
SUMMARY:Great Futures Gala 2023
DESCRIPTION:
URL:https://bgceastal.org/event/great-futures-gala-2023/
LOCATION:Southerly\, 1007 Ave B\, Opelika\, AL\, 36801\, United States
ORGANIZER;CN="Boys & Girls Clubs of East Alabama":MAILTO:gala@bgceastal.org
END:VEVENT
BEGIN:VEVENT
DTSTART;TZID=UTC:20230320T073000
DTEND;TZID=UTC:20230324T173000
DTSTAMP:20260422T040421
CREATED:20230119T224251Z
LAST-MODIFIED:20230119T224251Z
UID:477-1679297400-1679679000@bgceastal.org
SUMMARY:Spring Break Camp (Opelika)
DESCRIPTION:Grab your passport and head on down to the Boys & Girls Club International Airport for take-off!   \nRecord Low airfare of $100.00 will grant you a 5 day all-inclusive AROUND THE WORLD spring break adventure.   \nFrom 7:30am to 5:30pm each day you will have an immersive experience that includes the best food\, fun games and exciting offsite adventures. All led by our highly qualified and professional flight crew and staff.   \nWhy leave Lee County when we can bring the world to you?  \nFrom Asia to Australia the possibilities are endless – tickets are limited\, and the flight is almost full! Sign up today!  
URL:https://bgceastal.org/event/spring-break-camp-opelika/
LOCATION:Opelika Clubhouse\, 1610 Toomers Street\, Opelika\, 36801\, United States
ORGANIZER;CN="Janataka Holmes%2C Club Director":MAILTO:jholmes@bgcglc.org
END:VEVENT
BEGIN:VEVENT
DTSTART;TZID=UTC:20230306T073000
DTEND;TZID=UTC:20230310T173000
DTSTAMP:20260422T040421
CREATED:20230119T223946Z
LAST-MODIFIED:20230119T223946Z
UID:475-1678087800-1678469400@bgceastal.org
SUMMARY:Spring Break Camp (Auburn)
DESCRIPTION:Grab your passport and head on down to the Boys & Girls Club International Airport for take-off!   \nRecord Low airfare of $100.00 will grant you a 5 day all-inclusive AROUND THE WORLD spring break adventure.   \nFrom 7:30am to 5:30pm each day you will have an immersive experience that includes the best food\, fun games and exciting offsite adventures. All led by our highly qualified and professional flight crew and staff.   \nWhy leave Lee County when we can bring the world to you?  \nFrom Asia to Australia the possibilities are endless – tickets are limited\, and the flight is almost full! Sign up today!   \n 
URL:https://bgceastal.org/event/spring-break-camp-auburn/
LOCATION:Auburn Clubhouse\, 400-B Boykin Street\, Auburn\, AL\, 36830\, United States
ORGANIZER;CN="Kenyotta Crim%2C Club Director":MAILTO:kcrim@bgceastal.org
END:VEVENT
END:VCALENDAR